<?xml version="1.0" encoding="UTF-8" standalone="no"?>
<metadata xml:lang="en">
<Esri>
<CreaDate>20200208</CreaDate>
<CreaTime>13125300</CreaTime>
<ArcGISFormat>1.0</ArcGISFormat>
<SyncOnce>FALSE</SyncOnce>
<DataProperties>
<itemProps>
<itemName Sync="TRUE">GIS_Webraster.JACKSON.Orthos2019</itemName>
<imsContentType Sync="TRUE">002</imsContentType>
<nativeExtBox>
<westBL Sync="TRUE">695000.002473</westBL>
<eastBL Sync="TRUE">840000.002499</eastBL>
<southBL Sync="TRUE">474999.999996</southBL>
<northBL Sync="TRUE">680000.000100</northBL>
<exTypeCode Sync="TRUE">1</exTypeCode>
</nativeExtBox>
<itemLocation>
<linkage Sync="TRUE">Server=192.168.1.40; Service=sde:sqlserver:192.168.1.40; Database=GIS_Webraster; User=jackson; Version=sde.DEFAULT</linkage>
<protocol Sync="TRUE">ArcSDE Connection</protocol>
</itemLocation>
</itemProps>
<coordRef>
<type Sync="TRUE">Projected</type>
<geogcsn Sync="TRUE">GCS_North_American_1983</geogcsn>
<csUnits Sync="TRUE">Linear Unit: Foot_US (0.304801)</csUnits>
<projcsn Sync="TRUE">NAD_1983_StatePlane_North_Carolina_FIPS_3200_Feet</projcsn>
<peXml Sync="TRUE">&lt;ProjectedCoordinateSystem xsi:type='typens:ProjectedCoordinateSystem' xmlns:xsi='http://www.w3.org/2001/XMLSchema-instance' xmlns:xs='http://www.w3.org/2001/XMLSchema' xmlns:typens='http://www.esri.com/schemas/ArcGIS/10.8'&gt;&lt;WKT&gt;PROJCS[&amp;quot;NAD_1983_StatePlane_North_Carolina_FIPS_3200_Feet&amp;quot;,GEOGCS[&amp;quot;GCS_North_American_1983&amp;quot;,DATUM[&amp;quot;D_North_American_1983&amp;quot;,SPHEROID[&amp;quot;GRS_1980&amp;quot;,6378137.0,298.257222101]],PRIMEM[&amp;quot;Greenwich&amp;quot;,0.0],UNIT[&amp;quot;Degree&amp;quot;,0.0174532925199433]],PROJECTION[&amp;quot;Lambert_Conformal_Conic&amp;quot;],PARAMETER[&amp;quot;False_Easting&amp;quot;,2000000.002616666],PARAMETER[&amp;quot;False_Northing&amp;quot;,0.0],PARAMETER[&amp;quot;Central_Meridian&amp;quot;,-79.0],PARAMETER[&amp;quot;Standard_Parallel_1&amp;quot;,34.33333333333334],PARAMETER[&amp;quot;Standard_Parallel_2&amp;quot;,36.16666666666666],PARAMETER[&amp;quot;Latitude_Of_Origin&amp;quot;,33.75],UNIT[&amp;quot;Foot_US&amp;quot;,0.3048006096012192],AUTHORITY[&amp;quot;EPSG&amp;quot;,2264]]&lt;/WKT&gt;&lt;XOrigin&gt;-121841900&lt;/XOrigin&gt;&lt;YOrigin&gt;-93659000&lt;/YOrigin&gt;&lt;XYScale&gt;36365718.124241434&lt;/XYScale&gt;&lt;ZOrigin&gt;0&lt;/ZOrigin&gt;&lt;ZScale&gt;1&lt;/ZScale&gt;&lt;MOrigin&gt;0&lt;/MOrigin&gt;&lt;MScale&gt;1&lt;/MScale&gt;&lt;XYTolerance&gt;0.0032808333333333331&lt;/XYTolerance&gt;&lt;ZTolerance&gt;2&lt;/ZTolerance&gt;&lt;MTolerance&gt;2&lt;/MTolerance&gt;&lt;HighPrecision&gt;true&lt;/HighPrecision&gt;&lt;WKID&gt;102719&lt;/WKID&gt;&lt;LatestWKID&gt;2264&lt;/LatestWKID&gt;&lt;/ProjectedCoordinateSystem&gt;</peXml>
</coordRef>
<lineage>
<Process Date="20200212" Time="193910" ToolSource="c:\program files (x86)\arcgis\desktop10.6\ArcToolbox\Toolboxes\Data Management Tools.tbx\Clip">Clip GIS_Webraster.JACKSON.Orthos2019 "695000.002473465 474999.999996118 840000.002499142 680000.000100315" "Database Connections\Webraster.sde\GIS_Webraster.JACKSON.Orthos2019_clip" GRIDSID2019_selection 256 ClippingGeometry MAINTAIN_EXTENT</Process>
<Process Date="20210520" Time="145853" ToolSource="c:\program files (x86)\arcgis\desktop10.8\ArcToolbox\Toolboxes\Data Management Tools.tbx\ChangePrivileges">ChangePrivileges 'Database Connections\jackson@gis_webraster.sde\GIS_Webraster.JACKSON.COLOR200';'Database Connections\jackson@gis_webraster.sde\GIS_Webraster.JACKSON.COLOR400';'Database Connections\jackson@gis_webraster.sde\GIS_Webraster.JACKSON.DEM_20ft';'Database Connections\jackson@gis_webraster.sde\GIS_Webraster.JACKSON.Hillshade';'Database Connections\jackson@gis_webraster.sde\GIS_Webraster.JACKSON.Hillshade_Detailed';'Database Connections\jackson@gis_webraster.sde\GIS_Webraster.JACKSON.Hillshade_Light';'Database Connections\jackson@gis_webraster.sde\GIS_Webraster.JACKSON.Jackson_Construction_Caution_Areas';'Database Connections\jackson@gis_webraster.sde\GIS_Webraster.JACKSON.Jackson_LS_Susceptibility';'Database Connections\jackson@gis_webraster.sde\GIS_Webraster.JACKSON.Jackson_LS_Susceptibility_w_Construction_Caution_Areas';'Database Connections\jackson@gis_webraster.sde\GIS_Webraster.JACKSON.ORTHOS100';'Database Connections\jackson@gis_webraster.sde\GIS_Webraster.JACKSON.Orthos1980s';'Database Connections\jackson@gis_webraster.sde\GIS_Webraster.JACKSON.orthos200';'Database Connections\jackson@gis_webraster.sde\GIS_Webraster.JACKSON.ORTHOS2010';'Database Connections\jackson@gis_webraster.sde\GIS_Webraster.JACKSON.Orthos2015';'Database Connections\jackson@gis_webraster.sde\GIS_Webraster.JACKSON.Orthos2019';'Database Connections\jackson@gis_webraster.sde\GIS_Webraster.JACKSON.ORTHOS400';'Database Connections\jackson@gis_webraster.sde\GIS_Webraster.JACKSON.proposedTowerViewshed';'Database Connections\jackson@gis_webraster.sde\GIS_Webraster.JACKSON.SkyFi_Viewshed_Existing_Towers';'Database Connections\jackson@gis_webraster.sde\GIS_Webraster.JACKSON.SkyFi_Viewshed_Proposed_Towers';'Database Connections\jackson@gis_webraster.sde\GIS_Webraster.JACKSON.slope_30';'Database Connections\jackson@gis_webraster.sde\GIS_Webraster.JACKSON.slope_35' gis_users GRANT #</Process>
</lineage>
</DataProperties>
<SyncDate>20220208</SyncDate>
<SyncTime>09031800</SyncTime>
<ModDate>20220208</ModDate>
<ModTime>09031800</ModTime>
</Esri>
<dataIdInfo>
<envirDesc Sync="TRUE"> Version 6.2 (Build 9200) ; Esri ArcGIS 10.8.1.14362</envirDesc>
<dataLang>
<languageCode Sync="TRUE" value="eng"/>
<countryCode Sync="TRUE" value="USA"/>
</dataLang>
<idCitation>
<resTitle Sync="TRUE">Orthos2019</resTitle>
<presForm>
<PresFormCd Sync="TRUE" value="011"/>
</presForm>
</idCitation>
<spatRpType>
<SpatRepTypCd Sync="TRUE" value="002"/>
</spatRpType>
<dataExt>
<geoEle>
<GeoBndBox esriExtentType="search">
<exTypeCode Sync="TRUE">1</exTypeCode>
<westBL Sync="TRUE">-83.388141</westBL>
<eastBL Sync="TRUE">-82.874211</eastBL>
<northBL Sync="TRUE">35.555779</northBL>
<southBL Sync="TRUE">34.976430</southBL>
</GeoBndBox>
</geoEle>
</dataExt>
<idAbs/>
<searchKeys>
<keyword>Orthoimagery</keyword>
<keyword>aerial imagery</keyword>
</searchKeys>
<idPurp>2019 orthoimagery for Jackson County, North Carolina</idPurp>
<idCredit/>
<resConst>
<Consts>
<useLimit/>
</Consts>
</resConst>
</dataIdInfo>
<mdLang>
<languageCode Sync="TRUE" value="eng"/>
<countryCode Sync="TRUE" value="USA"/>
</mdLang>
<distInfo>
<distFormat>
<formatName Sync="TRUE">SDE Raster Dataset</formatName>
</distFormat>
</distInfo>
<mdHrLv>
<ScopeCd Sync="TRUE" value="005"/>
</mdHrLv>
<mdHrLvName Sync="TRUE">dataset</mdHrLvName>
<refSysInfo>
<RefSystem>
<refSysID>
<identCode Sync="TRUE" code="2264"/>
<idCodeSpace Sync="TRUE">EPSG</idCodeSpace>
<idVersion Sync="TRUE">6.12(9.0.0)</idVersion>
</refSysID>
</RefSystem>
</refSysInfo>
<spdoinfo>
<rastinfo>
<rasttype Sync="TRUE">Pixel</rasttype>
<rowcount Sync="TRUE">410000</rowcount>
<colcount Sync="TRUE">290000</colcount>
<rastxsz Sync="TRUE">0.500000</rastxsz>
<rastysz Sync="TRUE">0.500000</rastysz>
<rastbpp Sync="TRUE">8</rastbpp>
<vrtcount Sync="TRUE">1</vrtcount>
<rastorig Sync="TRUE">Upper Left</rastorig>
<rastcmap Sync="TRUE">FALSE</rastcmap>
<rastcomp Sync="TRUE">LZ77</rastcomp>
<rastband Sync="TRUE">3</rastband>
<rastdtyp Sync="TRUE">pixel codes</rastdtyp>
<rastifor Sync="TRUE">SDR</rastifor>
<rastplyr Sync="TRUE">TRUE</rastplyr>
</rastinfo>
</spdoinfo>
<spref>
<horizsys>
<planar>
<planci>
<plance Sync="TRUE">row and column</plance>
<coordrep>
<absres Sync="TRUE">0.500000</absres>
<ordres Sync="TRUE">0.500000</ordres>
</coordrep>
</planci>
</planar>
</horizsys>
</spref>
<mdDateSt Sync="TRUE">20220208</mdDateSt>
</metadata>
