<?xml version="1.0" encoding="UTF-8" standalone="no"?>
<metadata xml:lang="en">
<Esri>
<CreaDate>20210120</CreaDate>
<CreaTime>01260800</CreaTime>
<ArcGISFormat>1.0</ArcGISFormat>
<SyncOnce>FALSE</SyncOnce>
<DataProperties>
<lineage>
<Process Date="20210120" Name="" Time="012608" ToolSource="c:\program files\arcgis\pro\Resources\ArcToolbox\toolboxes\Data Management Tools.tbx\MosaicToNewRaster" export="">MosaicToNewRaster LowMosaic_80s_CopyRaster;HighMosaic_80s_CopyRaster "D:\Anja\Imagery\1980s\ImageryPro\Imagery (Pro).gdb" CombinedOrthos_mosaic2newraster PROJCS['NAD_1927_StatePlane_North_Carolina_FIPS_3200',GEOGCS['GCS_North_American_1927',DATUM['D_North_American_1927',SPHEROID['Clarke_1866',6378206.4,294.9786982]],PRIMEM['Greenwich',0.0],UNIT['Degree',0.0174532925199433]],PROJECTION['Lambert_Conformal_Conic'],PARAMETER['False_Easting',2000000.0],PARAMETER['False_Northing',0.0],PARAMETER['Central_Meridian',-79.0],PARAMETER['Standard_Parallel_1',34.33333333333334],PARAMETER['Standard_Parallel_2',36.16666666666666],PARAMETER['Latitude_Of_Origin',33.75],UNIT['Foot_US',0.3048006096012192]] "8 bit unsigned" # 1 Last First</Process>
<Process Date="20210120" Name="" Time="130240" ToolSource="c:\program files\arcgis\pro\Resources\ArcToolbox\toolboxes\Data Management Tools.tbx\CopyMultiple" export="">CopyMultiple "'D:\Anja\Imagery\1980s\ImageryPro\Imagery (Pro).gdb\CombinedOrthos_mosaic2newraster' RasterDataset" D:\Anja\Imagery\1980s\ImageryPro\jackson@webraster.sde CombinedOrthos_mosaic2newraster "CombinedOrthos_mosaic2newraster RasterDataset GIS_Webraster.JACKSON.CombinedOrthos_mosaic2newraster #"</Process>
<Process Date="20210120" Name="" Time="155637" ToolSource="c:\program files\arcgis\pro\Resources\ArcToolbox\toolboxes\Data Management Tools.tbx\Rename" export="">Rename D:\Anja\Imagery\1980s\ImageryPro\jackson@webraster.sde\GIS_Webraster.JACKSON.CombinedOrthos_mosaic2newraster D:\Anja\Imagery\1980s\ImageryPro\jackson@webraster.sde\GIS_Webraster.JACKSON.Orthos1980s RasterDataset</Process>
<Process Date="20210520" Time="145853" ToolSource="c:\program files (x86)\arcgis\desktop10.8\ArcToolbox\Toolboxes\Data Management Tools.tbx\ChangePrivileges">ChangePrivileges 'Database Connections\jackson@gis_webraster.sde\GIS_Webraster.JACKSON.COLOR200';'Database Connections\jackson@gis_webraster.sde\GIS_Webraster.JACKSON.COLOR400';'Database Connections\jackson@gis_webraster.sde\GIS_Webraster.JACKSON.DEM_20ft';'Database Connections\jackson@gis_webraster.sde\GIS_Webraster.JACKSON.Hillshade';'Database Connections\jackson@gis_webraster.sde\GIS_Webraster.JACKSON.Hillshade_Detailed';'Database Connections\jackson@gis_webraster.sde\GIS_Webraster.JACKSON.Hillshade_Light';'Database Connections\jackson@gis_webraster.sde\GIS_Webraster.JACKSON.Jackson_Construction_Caution_Areas';'Database Connections\jackson@gis_webraster.sde\GIS_Webraster.JACKSON.Jackson_LS_Susceptibility';'Database Connections\jackson@gis_webraster.sde\GIS_Webraster.JACKSON.Jackson_LS_Susceptibility_w_Construction_Caution_Areas';'Database Connections\jackson@gis_webraster.sde\GIS_Webraster.JACKSON.ORTHOS100';'Database Connections\jackson@gis_webraster.sde\GIS_Webraster.JACKSON.Orthos1980s';'Database Connections\jackson@gis_webraster.sde\GIS_Webraster.JACKSON.orthos200';'Database Connections\jackson@gis_webraster.sde\GIS_Webraster.JACKSON.ORTHOS2010';'Database Connections\jackson@gis_webraster.sde\GIS_Webraster.JACKSON.Orthos2015';'Database Connections\jackson@gis_webraster.sde\GIS_Webraster.JACKSON.Orthos2019';'Database Connections\jackson@gis_webraster.sde\GIS_Webraster.JACKSON.ORTHOS400';'Database Connections\jackson@gis_webraster.sde\GIS_Webraster.JACKSON.proposedTowerViewshed';'Database Connections\jackson@gis_webraster.sde\GIS_Webraster.JACKSON.SkyFi_Viewshed_Existing_Towers';'Database Connections\jackson@gis_webraster.sde\GIS_Webraster.JACKSON.SkyFi_Viewshed_Proposed_Towers';'Database Connections\jackson@gis_webraster.sde\GIS_Webraster.JACKSON.slope_30';'Database Connections\jackson@gis_webraster.sde\GIS_Webraster.JACKSON.slope_35' gis_users GRANT #</Process>
</lineage>
<itemProps>
<itemName Sync="TRUE">GIS_Webraster.JACKSON.Orthos1980s</itemName>
<imsContentType Sync="TRUE">002</imsContentType>
<nativeExtBox>
<westBL Sync="TRUE">699455.960273</westBL>
<eastBL Sync="TRUE">810675.499896</eastBL>
<southBL Sync="TRUE">499446.092850</southBL>
<northBL Sync="TRUE">660323.305881</northBL>
<exTypeCode Sync="TRUE">1</exTypeCode>
</nativeExtBox>
<itemLocation>
<linkage Sync="TRUE">Server=192.168.1.40; Service=sde:sqlserver:192.168.1.40; Database=GIS_Webraster; User=jackson; Version=sde.DEFAULT</linkage>
<protocol Sync="TRUE">ArcSDE Connection</protocol>
</itemLocation>
</itemProps>
<coordRef>
<type Sync="TRUE">Projected</type>
<geogcsn Sync="TRUE">GCS_North_American_1927</geogcsn>
<csUnits Sync="TRUE">Linear Unit: Foot_US (0.304801)</csUnits>
<projcsn Sync="TRUE">NAD_1927_StatePlane_North_Carolina_FIPS_3200</projcsn>
<peXml Sync="TRUE">&lt;ProjectedCoordinateSystem xsi:type='typens:ProjectedCoordinateSystem' xmlns:xsi='http://www.w3.org/2001/XMLSchema-instance' xmlns:xs='http://www.w3.org/2001/XMLSchema' xmlns:typens='http://www.esri.com/schemas/ArcGIS/10.8'&gt;&lt;WKT&gt;PROJCS[&amp;quot;NAD_1927_StatePlane_North_Carolina_FIPS_3200&amp;quot;,GEOGCS[&amp;quot;GCS_North_American_1927&amp;quot;,DATUM[&amp;quot;D_North_American_1927&amp;quot;,SPHEROID[&amp;quot;Clarke_1866&amp;quot;,6378206.4,294.9786982]],PRIMEM[&amp;quot;Greenwich&amp;quot;,0.0],UNIT[&amp;quot;Degree&amp;quot;,0.0174532925199433]],PROJECTION[&amp;quot;Lambert_Conformal_Conic&amp;quot;],PARAMETER[&amp;quot;False_Easting&amp;quot;,2000000.0],PARAMETER[&amp;quot;False_Northing&amp;quot;,0.0],PARAMETER[&amp;quot;Central_Meridian&amp;quot;,-79.0],PARAMETER[&amp;quot;Standard_Parallel_1&amp;quot;,34.33333333333334],PARAMETER[&amp;quot;Standard_Parallel_2&amp;quot;,36.16666666666666],PARAMETER[&amp;quot;Latitude_Of_Origin&amp;quot;,33.75],UNIT[&amp;quot;Foot_US&amp;quot;,0.3048006096012192],AUTHORITY[&amp;quot;EPSG&amp;quot;,32019]]&lt;/WKT&gt;&lt;XOrigin&gt;-121836700&lt;/XOrigin&gt;&lt;YOrigin&gt;-93653100&lt;/YOrigin&gt;&lt;XYScale&gt;36367245.149220668&lt;/XYScale&gt;&lt;ZOrigin&gt;-100000&lt;/ZOrigin&gt;&lt;ZScale&gt;10000&lt;/ZScale&gt;&lt;MOrigin&gt;-100000&lt;/MOrigin&gt;&lt;MScale&gt;10000&lt;/MScale&gt;&lt;XYTolerance&gt;0.0032808333333333331&lt;/XYTolerance&gt;&lt;ZTolerance&gt;0.001&lt;/ZTolerance&gt;&lt;MTolerance&gt;0.001&lt;/MTolerance&gt;&lt;HighPrecision&gt;true&lt;/HighPrecision&gt;&lt;WKID&gt;32019&lt;/WKID&gt;&lt;LatestWKID&gt;32019&lt;/LatestWKID&gt;&lt;/ProjectedCoordinateSystem&gt;</peXml>
</coordRef>
</DataProperties>
<SyncDate>20220208</SyncDate>
<SyncTime>09025700</SyncTime>
<ModDate>20220208</ModDate>
<ModTime>09025700</ModTime>
<scaleRange>
<minScale>150000000</minScale>
<maxScale>5000</maxScale>
</scaleRange>
<ArcGISProfile>ItemDescription</ArcGISProfile>
</Esri>
<dataIdInfo>
<envirDesc Sync="TRUE"> Version 6.2 (Build 9200) ; Esri ArcGIS 10.8.1.14362</envirDesc>
<dataLang>
<languageCode Sync="TRUE" value="eng"/>
<countryCode Sync="TRUE" value="USA"/>
</dataLang>
<idCitation>
<resTitle Sync="FALSE">Orthos1980</resTitle>
<presForm>
<PresFormCd Sync="TRUE" value="011"/>
</presForm>
</idCitation>
<spatRpType>
<SpatRepTypCd Sync="TRUE" value="002"/>
</spatRpType>
<dataExt>
<geoEle>
<GeoBndBox esriExtentType="search">
<exTypeCode Sync="TRUE">1</exTypeCode>
<westBL Sync="TRUE">-83.370166</westBL>
<eastBL Sync="TRUE">-82.975224</eastBL>
<northBL Sync="TRUE">35.498606</northBL>
<southBL Sync="TRUE">35.044112</southBL>
</GeoBndBox>
</geoEle>
</dataExt>
<idPurp>Orthophotos of Jackson County, North Carolina from the early 1980's</idPurp>
<idAbs>&lt;DIV STYLE="text-align:Left;"&gt;&lt;DIV&gt;&lt;DIV&gt;&lt;P&gt;&lt;SPAN&gt;To compile this dataset, mylar orthophotos were scanned in, georeferenced, and mosaicked (high resolution on top of the lower resolution images). The spatial reference for the imagery is NAD 1927 StatePlane North Carolina FIPS 3200.&lt;/SPAN&gt;&lt;/P&gt;&lt;/DIV&gt;&lt;/DIV&gt;&lt;/DIV&gt;</idAbs>
<idCredit>Jackson County GIS Department</idCredit>
<searchKeys>
<keyword>Orthoimagery</keyword>
</searchKeys>
<resConst>
<Consts>
<useLimit/>
</Consts>
</resConst>
</dataIdInfo>
<mdLang>
<languageCode Sync="TRUE" value="eng"/>
<countryCode Sync="TRUE" value="USA"/>
</mdLang>
<distInfo>
<distFormat>
<formatName Sync="TRUE">SDE Raster Dataset</formatName>
</distFormat>
</distInfo>
<mdHrLv>
<ScopeCd Sync="TRUE" value="005"/>
</mdHrLv>
<mdHrLvName Sync="TRUE">dataset</mdHrLvName>
<refSysInfo>
<RefSystem>
<refSysID>
<identCode Sync="TRUE" code="32019"/>
<idCodeSpace Sync="TRUE">EPSG</idCodeSpace>
<idVersion Sync="TRUE">4.5(3.0.1)</idVersion>
</refSysID>
</RefSystem>
</refSysInfo>
<spdoinfo>
<rastinfo>
<rasttype Sync="TRUE">Pixel</rasttype>
<rowcount Sync="TRUE">325790</rowcount>
<colcount Sync="TRUE">225229</colcount>
<rastxsz Sync="TRUE">0.493806</rastxsz>
<rastysz Sync="TRUE">0.493806</rastysz>
<rastbpp Sync="TRUE">8</rastbpp>
<vrtcount Sync="TRUE">1</vrtcount>
<rastorig Sync="TRUE">Upper Left</rastorig>
<rastcmap Sync="TRUE">FALSE</rastcmap>
<rastcomp Sync="TRUE">LZ77</rastcomp>
<rastband Sync="TRUE">1</rastband>
<rastdtyp Sync="TRUE">pixel codes</rastdtyp>
<rastifor Sync="TRUE">SDR</rastifor>
<rastplyr Sync="TRUE">TRUE</rastplyr>
</rastinfo>
</spdoinfo>
<spref>
<horizsys>
<planar>
<planci>
<plance Sync="TRUE">row and column</plance>
<coordrep>
<absres Sync="TRUE">0.493806</absres>
<ordres Sync="TRUE">0.493806</ordres>
</coordrep>
</planci>
</planar>
</horizsys>
</spref>
<mdDateSt Sync="TRUE">20220208</mdDateSt>
</metadata>
