{
 "currentVersion": 10.81,
 "serviceDescription": "Imagery/Oconoluftee_raster",
 "name": "Imagery/Oconoluftee_raster",
 "description": "",
 "extent": {
  "xmin": 680631.5,
  "ymin": 638845,
  "xmax": 768897,
  "ymax": 735190.5,
  "spatialReference": {
   "wkid": 103122,
   "latestWkid": 6543
  }
 },
 "initialExtent": {
  "xmin": 680631.5,
  "ymin": 638845,
  "xmax": 768897,
  "ymax": 735190.5,
  "spatialReference": {
   "wkid": 103122,
   "latestWkid": 6543
  }
 },
 "fullExtent": {
  "xmin": 680631.5,
  "ymin": 638845,
  "xmax": 768897,
  "ymax": 735190.5,
  "spatialReference": {
   "wkid": 103122,
   "latestWkid": 6543
  }
 },
 "pixelSizeX": 0.5,
 "pixelSizeY": 0.5,
 "datasetFormat": "SDR",
 "uncompressedSize": 102047804763,
 "blockWidth": 128,
 "blockHeight": 128,
 "compressionType": "LZ77",
 "bandNames": [
  "Band_1",
  "Band_2",
  "Band_3"
 ],
 "allowCopy": false,
 "allowAnalysis": false,
 "bandCount": 3,
 "pixelType": "U8",
 "minPixelSize": 29.52612809980929,
 "maxPixelSize": 7558.688793551179,
 "copyrightText": "",
 "serviceDataType": "esriImageServiceDataTypeRGB",
 "serviceSourceType": "esriImageServiceSourceTypeDataset",
 "minValues": [
  0,
  0,
  0
 ],
 "maxValues": [
  255,
  255,
  255
 ],
 "meanValues": [
  88.91062238560094,
  88.25710207800137,
  84.6051922784186
 ],
 "stdvValues": [
  43.02649034828524,
  42.4309903682838,
  41.45162365056161
 ],
 "objectIdField": "",
 "fields": [],
 "capabilities": "Image,Metadata,Mensuration",
 "defaultMosaicMethod": "Center",
 "allowedMosaicMethods": "",
 "sortField": "",
 "sortValue": null,
 "sortAscending": true,
 "mosaicOperator": "First",
 "defaultCompressionQuality": 75,
 "defaultResamplingMethod": "Bilinear",
 "maxImageHeight": 4100,
 "maxImageWidth": 15000,
 "singleFusedMapCache": true,
 "tileInfo": {
  "rows": 256,
  "cols": 256,
  "dpi": 96,
  "format": "PNG",
  "compressionQuality": 0,
  "origin": {
   "x": -1.2184155719354251E8,
   "y": 1.0696902451173094E8
  },
  "spatialReference": {
   "wkid": 103122,
   "latestWkid": 6543
  },
  "lods": [
   {
    "level": 0,
    "resolution": 967512.1655745509,
    "scale": 1.1145762438943706E9
   },
   {
    "level": 1,
    "resolution": 483756.08278727543,
    "scale": 5.572881219471853E8
   },
   {
    "level": 2,
    "resolution": 241878.04139363772,
    "scale": 2.7864406097359264E8
   },
   {
    "level": 3,
    "resolution": 120939.02069681886,
    "scale": 1.3932203048679632E8
   },
   {
    "level": 4,
    "resolution": 60469.51034840943,
    "scale": 6.966101524339816E7
   },
   {
    "level": 5,
    "resolution": 30234.755174204714,
    "scale": 3.483050762169908E7
   },
   {
    "level": 6,
    "resolution": 15117.377587102357,
    "scale": 1.741525381084954E7
   },
   {
    "level": 7,
    "resolution": 7558.688793551179,
    "scale": 8707626.90542477
   },
   {
    "level": 8,
    "resolution": 3779.3443967755893,
    "scale": 4353813.452712385
   },
   {
    "level": 9,
    "resolution": 1889.6721983877947,
    "scale": 2176906.7263561925
   },
   {
    "level": 10,
    "resolution": 944.8360991938973,
    "scale": 1088453.3631780962
   },
   {
    "level": 11,
    "resolution": 472.41804959694866,
    "scale": 544226.6815890481
   },
   {
    "level": 12,
    "resolution": 236.20902479847433,
    "scale": 272113.34079452406
   },
   {
    "level": 13,
    "resolution": 118.10451239923717,
    "scale": 136056.67039726203
   },
   {
    "level": 14,
    "resolution": 59.05225619961858,
    "scale": 68028.33519863102
   },
   {
    "level": 15,
    "resolution": 29.52612809980929,
    "scale": 34014.16759931551
   },
   {
    "level": 16,
    "resolution": 14.763064049904646,
    "scale": 17007.083799657754
   },
   {
    "level": 17,
    "resolution": 7.381532024952323,
    "scale": 8503.541899828877
   },
   {
    "level": 18,
    "resolution": 3.6907660124761614,
    "scale": 4251.7709499144385
   }
  ]
 },
 "cacheType": "Map",
 "allowRasterFunction": false,
 "rasterFunctionInfos": [
  {
   "name": "None",
   "description": "",
   "help": ""
  }
 ],
 "rasterTypeInfos": [
  {
   "name": "Raster Dataset",
   "description": "Supports all ArcGIS Raster Datasets",
   "help": ""
  }
 ],
 "mensurationCapabilities": "Basic",
 "hasHistograms": true,
 "hasColormap": false,
 "hasRasterAttributeTable": false,
 "minScale": 8707626.90542477,
 "maxScale": 34014.16759931551,
 "minLOD": 7,
 "maxLOD": 15,
 "exportTilesAllowed": false,
 "hasMultidimensions": false,
 "supportsStatistics": false,
 "supportsAdvancedQueries": false,
 "editFieldsInfo": null,
 "ownershipBasedAccessControlForRasters": null,
 "allowComputeTiePoints": false,
 "useStandardizedQueries": true,
 "advancedQueryCapabilities": {
  "useStandardizedQueries": true,
  "supportsStatistics": false,
  "supportsOrderBy": false,
  "supportsDistinct": false,
  "supportsPagination": false
 },
 "spatialReference": {
  "wkid": 103122,
  "latestWkid": 6543
 }
}
