<?xml version="1.0" encoding="UTF-8" standalone="no"?>
<metadata xml:lang="en">
<Esri>
<CreaDate>20210416</CreaDate>
<CreaTime>13171500</CreaTime>
<ArcGISFormat>1.0</ArcGISFormat>
<SyncOnce>FALSE</SyncOnce>
<DataProperties>
<lineage>
<Process Date="20210416" Name="" Time="131715" ToolSource="c:\program files\arcgis\pro\Resources\ArcToolbox\toolboxes\Spatial Analyst Tools.tbx\HillShade" export="">HillShade D:\Anja\DEMs\Mosaics.gdb\JacksonDEM_3ft_combined "D:\Anja\Imagery\1980s\ImageryPro\Imagery (Pro).gdb\Hillshade_3ft" 315 45 NO_SHADOWS 1</Process>
<Process Date="20210520" Name="" Time="145852" ToolSource="c:\program files (x86)\arcgis\desktop10.8\ArcToolbox\Toolboxes\Data Management Tools.tbx\ChangePrivileges" export="">ChangePrivileges 'Database Connections\jackson@gis_webraster.sde\GIS_Webraster.JACKSON.COLOR200';'Database Connections\jackson@gis_webraster.sde\GIS_Webraster.JACKSON.COLOR400';'Database Connections\jackson@gis_webraster.sde\GIS_Webraster.JACKSON.DEM_20ft';'Database Connections\jackson@gis_webraster.sde\GIS_Webraster.JACKSON.Hillshade';'Database Connections\jackson@gis_webraster.sde\GIS_Webraster.JACKSON.Hillshade_Detailed';'Database Connections\jackson@gis_webraster.sde\GIS_Webraster.JACKSON.Hillshade_Light';'Database Connections\jackson@gis_webraster.sde\GIS_Webraster.JACKSON.Jackson_Construction_Caution_Areas';'Database Connections\jackson@gis_webraster.sde\GIS_Webraster.JACKSON.Jackson_LS_Susceptibility';'Database Connections\jackson@gis_webraster.sde\GIS_Webraster.JACKSON.Jackson_LS_Susceptibility_w_Construction_Caution_Areas';'Database Connections\jackson@gis_webraster.sde\GIS_Webraster.JACKSON.ORTHOS100';'Database Connections\jackson@gis_webraster.sde\GIS_Webraster.JACKSON.Orthos1980s';'Database Connections\jackson@gis_webraster.sde\GIS_Webraster.JACKSON.orthos200';'Database Connections\jackson@gis_webraster.sde\GIS_Webraster.JACKSON.ORTHOS2010';'Database Connections\jackson@gis_webraster.sde\GIS_Webraster.JACKSON.Orthos2015';'Database Connections\jackson@gis_webraster.sde\GIS_Webraster.JACKSON.Orthos2019';'Database Connections\jackson@gis_webraster.sde\GIS_Webraster.JACKSON.ORTHOS400';'Database Connections\jackson@gis_webraster.sde\GIS_Webraster.JACKSON.proposedTowerViewshed';'Database Connections\jackson@gis_webraster.sde\GIS_Webraster.JACKSON.SkyFi_Viewshed_Existing_Towers';'Database Connections\jackson@gis_webraster.sde\GIS_Webraster.JACKSON.SkyFi_Viewshed_Proposed_Towers';'Database Connections\jackson@gis_webraster.sde\GIS_Webraster.JACKSON.slope_30';'Database Connections\jackson@gis_webraster.sde\GIS_Webraster.JACKSON.slope_35' gis_users GRANT #</Process>
</lineage>
<itemProps>
<itemName Sync="TRUE">GIS_Webraster.JACKSON.Hillshade_Detailed</itemName>
<imsContentType Sync="TRUE">002</imsContentType>
<nativeExtBox>
<westBL Sync="TRUE">699999.997383</westBL>
<eastBL Sync="TRUE">832499.997383</eastBL>
<southBL Sync="TRUE">480000.000000</southBL>
<northBL Sync="TRUE">675000.000000</northBL>
<exTypeCode Sync="TRUE">1</exTypeCode>
</nativeExtBox>
<itemLocation>
<linkage Sync="TRUE">Server=192.168.1.40; Service=sde:sqlserver:192.168.1.40; Database=GIS_Webraster; User=jackson; Version=sde.DEFAULT</linkage>
<protocol Sync="TRUE">ArcSDE Connection</protocol>
</itemLocation>
</itemProps>
<coordRef>
<type Sync="TRUE">Projected</type>
<geogcsn Sync="TRUE">GCS_NAD_1983_2011</geogcsn>
<csUnits Sync="TRUE">Linear Unit: Foot_US (0.304801)</csUnits>
<projcsn Sync="TRUE">NAD_1983_2011_StatePlane_North_Carolina_FIPS_3200_Ft_US</projcsn>
<peXml Sync="TRUE">&lt;ProjectedCoordinateSystem xsi:type='typens:ProjectedCoordinateSystem' xmlns:xsi='http://www.w3.org/2001/XMLSchema-instance' xmlns:xs='http://www.w3.org/2001/XMLSchema' xmlns:typens='http://www.esri.com/schemas/ArcGIS/10.8'&gt;&lt;WKT&gt;PROJCS[&amp;quot;NAD_1983_2011_StatePlane_North_Carolina_FIPS_3200_Ft_US&amp;quot;,GEOGCS[&amp;quot;GCS_NAD_1983_2011&amp;quot;,DATUM[&amp;quot;D_NAD_1983_2011&amp;quot;,SPHEROID[&amp;quot;GRS_1980&amp;quot;,6378137.0,298.257222101]],PRIMEM[&amp;quot;Greenwich&amp;quot;,0.0],UNIT[&amp;quot;Degree&amp;quot;,0.0174532925199433]],PROJECTION[&amp;quot;Lambert_Conformal_Conic&amp;quot;],PARAMETER[&amp;quot;False_Easting&amp;quot;,2000000.0],PARAMETER[&amp;quot;False_Northing&amp;quot;,0.0],PARAMETER[&amp;quot;Central_Meridian&amp;quot;,-79.0],PARAMETER[&amp;quot;Standard_Parallel_1&amp;quot;,34.33333333333334],PARAMETER[&amp;quot;Standard_Parallel_2&amp;quot;,36.16666666666666],PARAMETER[&amp;quot;Latitude_Of_Origin&amp;quot;,33.75],UNIT[&amp;quot;Foot_US&amp;quot;,0.3048006096012192]],VERTCS[&amp;quot;NAVD_1988_Foot_US&amp;quot;,VDATUM[&amp;quot;North_American_Vertical_Datum_1988&amp;quot;],PARAMETER[&amp;quot;Vertical_Shift&amp;quot;,0.0],PARAMETER[&amp;quot;Direction&amp;quot;,1.0],UNIT[&amp;quot;Foot_US&amp;quot;,0.3048006096012192]]&lt;/WKT&gt;&lt;XOrigin&gt;-121841900&lt;/XOrigin&gt;&lt;YOrigin&gt;-93659000&lt;/YOrigin&gt;&lt;XYScale&gt;36365718.124241434&lt;/XYScale&gt;&lt;ZOrigin&gt;-100000&lt;/ZOrigin&gt;&lt;ZScale&gt;10000&lt;/ZScale&gt;&lt;MOrigin&gt;-100000&lt;/MOrigin&gt;&lt;MScale&gt;10000&lt;/MScale&gt;&lt;XYTolerance&gt;0.0032808333333333331&lt;/XYTolerance&gt;&lt;ZTolerance&gt;0.001&lt;/ZTolerance&gt;&lt;MTolerance&gt;0.001&lt;/MTolerance&gt;&lt;HighPrecision&gt;true&lt;/HighPrecision&gt;&lt;WKID&gt;103122&lt;/WKID&gt;&lt;LatestWKID&gt;6543&lt;/LatestWKID&gt;&lt;VCSWKID&gt;105703&lt;/VCSWKID&gt;&lt;LatestVCSWKID&gt;6360&lt;/LatestVCSWKID&gt;&lt;/ProjectedCoordinateSystem&gt;</peXml>
</coordRef>
</DataProperties>
<SyncDate>20220208</SyncDate>
<SyncTime>09021900</SyncTime>
<ModDate>20220208</ModDate>
<ModTime>09021900</ModTime>
<scaleRange>
<minScale>150000000</minScale>
<maxScale>5000</maxScale>
</scaleRange>
<ArcGISProfile>ItemDescription</ArcGISProfile>
</Esri>
<dataIdInfo>
<envirDesc Sync="TRUE"> Version 6.2 (Build 9200) ; Esri ArcGIS 10.8.1.14362</envirDesc>
<dataLang>
<languageCode Sync="TRUE" value="eng"/>
<countryCode Sync="TRUE" value="USA"/>
</dataLang>
<idCitation>
<resTitle Sync="TRUE">Hillshade_JC</resTitle>
<presForm>
<PresFormCd Sync="TRUE" value="011"/>
</presForm>
</idCitation>
<spatRpType>
<SpatRepTypCd Sync="TRUE" value="002"/>
</spatRpType>
<dataExt>
<geoEle>
<GeoBndBox esriExtentType="search">
<exTypeCode Sync="TRUE">1</exTypeCode>
<westBL Sync="TRUE">-83.370610</westBL>
<eastBL Sync="TRUE">-82.899889</eastBL>
<northBL Sync="TRUE">35.541240</northBL>
<southBL Sync="TRUE">34.990757</southBL>
</GeoBndBox>
</geoEle>
</dataExt>
<idPurp>Generated from a 3 foot resolution digital elevation model generated by the NC Floodplain Mapping Program on March 31st, 2019 using LiDAR. Created using the Hillshade tool in the Spatial Analyst toolbox.</idPurp>
<searchKeys>
<keyword>Topography</keyword>
<keyword>hillshade</keyword>
</searchKeys>
<idAbs/>
<idCredit/>
<resConst>
<Consts>
<useLimit/>
</Consts>
</resConst>
</dataIdInfo>
<mdLang>
<languageCode Sync="TRUE" value="eng"/>
<countryCode Sync="TRUE" value="USA"/>
</mdLang>
<distInfo>
<distFormat>
<formatName Sync="TRUE">SDE Raster Dataset</formatName>
</distFormat>
</distInfo>
<mdHrLv>
<ScopeCd Sync="TRUE" value="005"/>
</mdHrLv>
<mdHrLvName Sync="TRUE">dataset</mdHrLvName>
<refSysInfo>
<RefSystem>
<refSysID>
<identCode Sync="TRUE" code="6543"/>
<idCodeSpace Sync="TRUE">EPSG</idCodeSpace>
<idVersion Sync="TRUE">8.2.10(10.3.1)</idVersion>
</refSysID>
</RefSystem>
</refSysInfo>
<spdoinfo>
<rastinfo>
<rasttype Sync="TRUE">Pixel</rasttype>
<rowcount Sync="TRUE">62400</rowcount>
<colcount Sync="TRUE">42400</colcount>
<rastxsz Sync="TRUE">3.125000</rastxsz>
<rastysz Sync="TRUE">3.125000</rastysz>
<rastbpp Sync="TRUE">8</rastbpp>
<vrtcount Sync="TRUE">1</vrtcount>
<rastorig Sync="TRUE">Upper Left</rastorig>
<rastcmap Sync="TRUE">FALSE</rastcmap>
<rastcomp Sync="TRUE">LZ77</rastcomp>
<rastband Sync="TRUE">1</rastband>
<rastdtyp Sync="TRUE">pixel codes</rastdtyp>
<rastifor Sync="TRUE">SDR</rastifor>
<rastplyr Sync="TRUE">TRUE</rastplyr>
</rastinfo>
</spdoinfo>
<spref>
<horizsys>
<planar>
<planci>
<plance Sync="TRUE">row and column</plance>
<coordrep>
<absres Sync="TRUE">3.125000</absres>
<ordres Sync="TRUE">3.125000</ordres>
</coordrep>
</planci>
</planar>
</horizsys>
</spref>
<eainfo>
<detailed Name="GIS_Webraster.JACKSON.SDE_VAT_54">
<enttyp>
<enttypl Sync="TRUE">GIS_Webraster.JACKSON.SDE_VAT_54</enttypl>
<enttypt Sync="TRUE">Table</enttypt>
<enttypc Sync="TRUE">255</enttypc>
</enttyp>
<attr>
<attrlabl Sync="TRUE">OBJECTID</attrlabl>
<attalias Sync="TRUE">OBJECTID</attalias>
<attrtype Sync="TRUE">OID</attrtype>
<attwidth Sync="TRUE">4</attwidth>
<atprecis Sync="TRUE">10</atprecis>
<attscale Sync="TRUE">0</attscale>
<attrdef Sync="TRUE">Internal feature number.</attrdef>
<attrdefs Sync="TRUE">Esri</attrdefs>
<attrdomv>
<udom Sync="TRUE">Sequential unique whole numbers that are automatically generated.</udom>
</attrdomv>
</attr>
<attr>
<attrlabl Sync="TRUE">Value</attrlabl>
<attalias Sync="TRUE">Value</attalias>
<attrtype Sync="TRUE">Integer</attrtype>
<attwidth Sync="TRUE">4</attwidth>
<atprecis Sync="TRUE">10</atprecis>
<attscale Sync="TRUE">0</attscale>
</attr>
<attr>
<attrlabl Sync="TRUE">Count_</attrlabl>
<attalias Sync="TRUE">Count_</attalias>
<attrtype Sync="TRUE">Double</attrtype>
<attwidth Sync="TRUE">8</attwidth>
<atprecis Sync="TRUE">38</atprecis>
<attscale Sync="TRUE">8</attscale>
</attr>
</detailed>
</eainfo>
<mdDateSt Sync="TRUE">20220208</mdDateSt>
</metadata>
